BEGIN:VCALENDAR
VERSION:2.0
PRODID:http://www.kufer.de/kuferweb / DE
METHOD:PUBLISH
CALSCALE:GREGORIAN
X-WR-TIMEZONE:Europe/Berlin
BEGIN:VTIMEZONE
TZID:Europe/Berlin
X-LIC-LOCATION:Europe/Berlin
BEGIN:DAYLIGHT
TZOFFSETFROM:+0100
TZOFFSETTO:+0200
TZNAME:CEST
DTSTART;TZID=Europe/Berlin:19700329T020000
RRULE:FREQ=YEARLY;INTERVAL=1;BYDAY=-1SU;BYMONTH=3
END:DAYLIGHT
BEGIN:STANDARD
TZOFFSETFROM:+0200
TZOFFSETTO:+0100
TZNAME:CET
DTSTART;TZID=Europe/Berlin:19701025T030000
RRULE:FREQ=YEARLY;INTERVAL=1;BYDAY=-1SU;BYMONTH=10
END:STANDARD
END:VTIMEZONE
BEGIN:VEVENT
DTSTAMP:20260421T150819
DTSTART;TZID=Europe/Berlin:20260205T175500
DTEND;TZID=Europe/Berlin:20260205T184500
UID:261-7456-20260205T175500@VHSTORNESCH-UETERSEN
SUMMARY:Klassisches Ballett für 10 - 12 - jährige Kinder  - Leistungskurs / Kleingruppe - (261-7456) 
LOCATION:VHS, Tornescher Hof 2, Raum 07, Tornescher Hof 2, 25436 Tornesch
END:VEVENT
BEGIN:VEVENT
DTSTAMP:20260421T150819
DTSTART;TZID=Europe/Berlin:20260212T175500
DTEND;TZID=Europe/Berlin:20260212T184500
UID:261-7456-20260212T175500@VHSTORNESCH-UETERSEN
SUMMARY:Klassisches Ballett für 10 - 12 - jährige Kinder  - Leistungskurs / Kleingruppe - (261-7456) 
LOCATION:VHS, Tornescher Hof 2, Raum 07, Tornescher Hof 2, 25436 Tornesch
END:VEVENT
BEGIN:VEVENT
DTSTAMP:20260421T150819
DTSTART;TZID=Europe/Berlin:20260219T175500
DTEND;TZID=Europe/Berlin:20260219T184500
UID:261-7456-20260219T175500@VHSTORNESCH-UETERSEN
SUMMARY:Klassisches Ballett für 10 - 12 - jährige Kinder  - Leistungskurs / Kleingruppe - (261-7456) 
LOCATION:VHS, Tornescher Hof 2, Raum 07, Tornescher Hof 2, 25436 Tornesch
END:VEVENT
BEGIN:VEVENT
DTSTAMP:20260421T150819
DTSTART;TZID=Europe/Berlin:20260226T175500
DTEND;TZID=Europe/Berlin:20260226T184500
UID:261-7456-20260226T175500@VHSTORNESCH-UETERSEN
SUMMARY:Klassisches Ballett für 10 - 12 - jährige Kinder  - Leistungskurs / Kleingruppe - (261-7456) 
LOCATION:VHS, Tornescher Hof 2, Raum 07, Tornescher Hof 2, 25436 Tornesch
END:VEVENT
BEGIN:VEVENT
DTSTAMP:20260421T150819
DTSTART;TZID=Europe/Berlin:20260312T175500
DTEND;TZID=Europe/Berlin:20260312T184500
UID:261-7456-20260312T175500@VHSTORNESCH-UETERSEN
SUMMARY:Klassisches Ballett für 10 - 12 - jährige Kinder  - Leistungskurs / Kleingruppe - (261-7456) 
LOCATION:VHS, Tornescher Hof 2, Raum 07, Tornescher Hof 2, 25436 Tornesch
END:VEVENT
BEGIN:VEVENT
DTSTAMP:20260421T150819
DTSTART;TZID=Europe/Berlin:20260319T175500
DTEND;TZID=Europe/Berlin:20260319T184500
UID:261-7456-20260319T175500@VHSTORNESCH-UETERSEN
SUMMARY:Klassisches Ballett für 10 - 12 - jährige Kinder  - Leistungskurs / Kleingruppe - (261-7456) 
LOCATION:VHS, Tornescher Hof 2, Raum 07, Tornescher Hof 2, 25436 Tornesch
END:VEVENT
BEGIN:VEVENT
DTSTAMP:20260421T150819
DTSTART;TZID=Europe/Berlin:20260416T175500
DTEND;TZID=Europe/Berlin:20260416T184500
UID:261-7456-20260416T175500@VHSTORNESCH-UETERSEN
SUMMARY:Klassisches Ballett für 10 - 12 - jährige Kinder  - Leistungskurs / Kleingruppe - (261-7456) 
LOCATION:VHS, Tornescher Hof 2, Raum 07, Tornescher Hof 2, 25436 Tornesch
END:VEVENT
BEGIN:VEVENT
DTSTAMP:20260421T150819
DTSTART;TZID=Europe/Berlin:20260423T175500
DTEND;TZID=Europe/Berlin:20260423T184500
UID:261-7456-20260423T175500@VHSTORNESCH-UETERSEN
SUMMARY:Klassisches Ballett für 10 - 12 - jährige Kinder  - Leistungskurs / Kleingruppe - (261-7456) 
LOCATION:VHS, Tornescher Hof 2, Raum 07, Tornescher Hof 2, 25436 Tornesch
END:VEVENT
BEGIN:VEVENT
DTSTAMP:20260421T150819
DTSTART;TZID=Europe/Berlin:20260430T175500
DTEND;TZID=Europe/Berlin:20260430T184500
UID:261-7456-20260430T175500@VHSTORNESCH-UETERSEN
SUMMARY:Klassisches Ballett für 10 - 12 - jährige Kinder  - Leistungskurs / Kleingruppe - (261-7456) 
LOCATION:VHS, Tornescher Hof 2, Raum 07, Tornescher Hof 2, 25436 Tornesch
END:VEVENT
BEGIN:VEVENT
DTSTAMP:20260421T150819
DTSTART;TZID=Europe/Berlin:20260507T175500
DTEND;TZID=Europe/Berlin:20260507T184500
UID:261-7456-20260507T175500@VHSTORNESCH-UETERSEN
SUMMARY:Klassisches Ballett für 10 - 12 - jährige Kinder  - Leistungskurs / Kleingruppe - (261-7456) 
LOCATION:VHS, Tornescher Hof 2, Raum 07, Tornescher Hof 2, 25436 Tornesch
END:VEVENT
BEGIN:VEVENT
DTSTAMP:20260421T150819
DTSTART;TZID=Europe/Berlin:20260521T175500
DTEND;TZID=Europe/Berlin:20260521T184500
UID:261-7456-20260521T175500@VHSTORNESCH-UETERSEN
SUMMARY:Klassisches Ballett für 10 - 12 - jährige Kinder  - Leistungskurs / Kleingruppe - (261-7456) 
LOCATION:VHS, Tornescher Hof 2, Raum 07, Tornescher Hof 2, 25436 Tornesch
END:VEVENT
BEGIN:VEVENT
DTSTAMP:20260421T150819
DTSTART;TZID=Europe/Berlin:20260528T175500
DTEND;TZID=Europe/Berlin:20260528T184500
UID:261-7456-20260528T175500@VHSTORNESCH-UETERSEN
SUMMARY:Klassisches Ballett für 10 - 12 - jährige Kinder  - Leistungskurs / Kleingruppe - (261-7456) 
LOCATION:VHS, Tornescher Hof 2, Raum 07, Tornescher Hof 2, 25436 Tornesch
END:VEVENT
BEGIN:VEVENT
DTSTAMP:20260421T150819
DTSTART;TZID=Europe/Berlin:20260604T175500
DTEND;TZID=Europe/Berlin:20260604T184500
UID:261-7456-20260604T175500@VHSTORNESCH-UETERSEN
SUMMARY:Klassisches Ballett für 10 - 12 - jährige Kinder  - Leistungskurs / Kleingruppe - (261-7456) 
LOCATION:VHS, Tornescher Hof 2, Raum 07, Tornescher Hof 2, 25436 Tornesch
END:VEVENT
BEGIN:VEVENT
DTSTAMP:20260421T150819
DTSTART;TZID=Europe/Berlin:20260611T175500
DTEND;TZID=Europe/Berlin:20260611T184500
UID:261-7456-20260611T175500@VHSTORNESCH-UETERSEN
SUMMARY:Klassisches Ballett für 10 - 12 - jährige Kinder  - Leistungskurs / Kleingruppe - (261-7456) 
LOCATION:VHS, Tornescher Hof 2, Raum 07, Tornescher Hof 2, 25436 Tornesch
END:VEVENT
BEGIN:VEVENT
DTSTAMP:20260421T150819
DTSTART;TZID=Europe/Berlin:20260618T175500
DTEND;TZID=Europe/Berlin:20260618T184500
UID:261-7456-20260618T175500@VHSTORNESCH-UETERSEN
SUMMARY:Klassisches Ballett für 10 - 12 - jährige Kinder  - Leistungskurs / Kleingruppe - (261-7456) 
LOCATION:VHS, Tornescher Hof 2, Raum 07, Tornescher Hof 2, 25436 Tornesch
END:VEVENT
BEGIN:VEVENT
DTSTAMP:20260421T150819
DTSTART;TZID=Europe/Berlin:20260625T175500
DTEND;TZID=Europe/Berlin:20260625T184500
UID:261-7456-20260625T175500@VHSTORNESCH-UETERSEN
SUMMARY:Klassisches Ballett für 10 - 12 - jährige Kinder  - Leistungskurs / Kleingruppe - (261-7456) 
LOCATION:VHS, Tornescher Hof 2, Raum 07, Tornescher Hof 2, 25436 Tornesch
END:VEVENT
BEGIN:VEVENT
DTSTAMP:20260421T150819
DTSTART;TZID=Europe/Berlin:20260702T175500
DTEND;TZID=Europe/Berlin:20260702T184500
UID:261-7456-20260702T175500@VHSTORNESCH-UETERSEN
SUMMARY:Klassisches Ballett für 10 - 12 - jährige Kinder  - Leistungskurs / Kleingruppe - (261-7456) 
LOCATION:VHS, Tornescher Hof 2, Raum 07, Tornescher Hof 2, 25436 Tornesch
END:VEVENT
BEGIN:VEVENT
DTSTAMP:20260421T150819
DTSTART;TZID=Europe/Berlin:20260820T175500
DTEND;TZID=Europe/Berlin:20260820T184500
UID:261-7456-20260820T175500@VHSTORNESCH-UETERSEN
DESCRIPTION:Ersatz für Ausfall am 05.03.2026
SUMMARY:Klassisches Ballett für 10 - 12 - jährige Kinder  - Leistungskurs / Kleingruppe - (261-7456) 
LOCATION:VHS, Tornescher Hof 2, Raum 07, Tornescher Hof 2, 25436 Tornesch
END:VEVENT
END:VCALENDAR