BEGIN:VCALENDAR
VERSION:2.0
PRODID:http://www.kufer.de/kuferweb / DE
METHOD:PUBLISH
CALSCALE:GREGORIAN
X-WR-TIMEZONE:Europe/Berlin
BEGIN:VTIMEZONE
TZID:Europe/Berlin
X-LIC-LOCATION:Europe/Berlin
BEGIN:DAYLIGHT
TZOFFSETFROM:+0100
TZOFFSETTO:+0200
TZNAME:CEST
DTSTART;TZID=Europe/Berlin:19700329T020000
RRULE:FREQ=YEARLY;INTERVAL=1;BYDAY=-1SU;BYMONTH=3
END:DAYLIGHT
BEGIN:STANDARD
TZOFFSETFROM:+0200
TZOFFSETTO:+0100
TZNAME:CET
DTSTART;TZID=Europe/Berlin:19701025T030000
RRULE:FREQ=YEARLY;INTERVAL=1;BYDAY=-1SU;BYMONTH=10
END:STANDARD
END:VTIMEZONE
BEGIN:VEVENT
DTSTAMP:20260421T102645
DTSTART;TZID=Europe/Berlin:20260114T153000
DTEND;TZID=Europe/Berlin:20260114T160000
UID:261-7402-20260114T153000@VHSTORNESCH-UETERSEN
SUMMARY:Gitarre für Kinder - Einzelunterricht (261-7402) 
LOCATION:VHS, Tornescher Hof 2, Raum 12, Tornescher Hof 2   , 25436 Tornesch
END:VEVENT
BEGIN:VEVENT
DTSTAMP:20260421T102645
DTSTART;TZID=Europe/Berlin:20260121T153000
DTEND;TZID=Europe/Berlin:20260121T160000
UID:261-7402-20260121T153000@VHSTORNESCH-UETERSEN
SUMMARY:Gitarre für Kinder - Einzelunterricht (261-7402) 
LOCATION:VHS, Tornescher Hof 2, Raum 12, Tornescher Hof 2   , 25436 Tornesch
END:VEVENT
BEGIN:VEVENT
DTSTAMP:20260421T102645
DTSTART;TZID=Europe/Berlin:20260128T153000
DTEND;TZID=Europe/Berlin:20260128T160000
UID:261-7402-20260128T153000@VHSTORNESCH-UETERSEN
SUMMARY:Gitarre für Kinder - Einzelunterricht (261-7402) 
LOCATION:VHS, Tornescher Hof 2, Raum 12, Tornescher Hof 2   , 25436 Tornesch
END:VEVENT
BEGIN:VEVENT
DTSTAMP:20260421T102645
DTSTART;TZID=Europe/Berlin:20260204T153000
DTEND;TZID=Europe/Berlin:20260204T160000
UID:261-7402-20260204T153000@VHSTORNESCH-UETERSEN
SUMMARY:Gitarre für Kinder - Einzelunterricht (261-7402) 
LOCATION:VHS, Tornescher Hof 2, Raum 12, Tornescher Hof 2   , 25436 Tornesch
END:VEVENT
BEGIN:VEVENT
DTSTAMP:20260421T102645
DTSTART;TZID=Europe/Berlin:20260211T153000
DTEND;TZID=Europe/Berlin:20260211T160000
UID:261-7402-20260211T153000@VHSTORNESCH-UETERSEN
SUMMARY:Gitarre für Kinder - Einzelunterricht (261-7402) 
LOCATION:VHS, Tornescher Hof 2, Raum 12, Tornescher Hof 2   , 25436 Tornesch
END:VEVENT
BEGIN:VEVENT
DTSTAMP:20260421T102645
DTSTART;TZID=Europe/Berlin:20260218T153000
DTEND;TZID=Europe/Berlin:20260218T160000
UID:261-7402-20260218T153000@VHSTORNESCH-UETERSEN
SUMMARY:Gitarre für Kinder - Einzelunterricht (261-7402) 
LOCATION:VHS, Tornescher Hof 2, Raum 12, Tornescher Hof 2   , 25436 Tornesch
END:VEVENT
BEGIN:VEVENT
DTSTAMP:20260421T102645
DTSTART;TZID=Europe/Berlin:20260225T153000
DTEND;TZID=Europe/Berlin:20260225T160000
UID:261-7402-20260225T153000@VHSTORNESCH-UETERSEN
SUMMARY:Gitarre für Kinder - Einzelunterricht (261-7402) 
LOCATION:VHS, Tornescher Hof 2, Raum 12, Tornescher Hof 2   , 25436 Tornesch
END:VEVENT
BEGIN:VEVENT
DTSTAMP:20260421T102645
DTSTART;TZID=Europe/Berlin:20260304T153000
DTEND;TZID=Europe/Berlin:20260304T160000
UID:261-7402-20260304T153000@VHSTORNESCH-UETERSEN
SUMMARY:Gitarre für Kinder - Einzelunterricht (261-7402) 
LOCATION:VHS, Tornescher Hof 2, Raum 12, Tornescher Hof 2   , 25436 Tornesch
END:VEVENT
BEGIN:VEVENT
DTSTAMP:20260421T102645
DTSTART;TZID=Europe/Berlin:20260311T153000
DTEND;TZID=Europe/Berlin:20260311T160000
UID:261-7402-20260311T153000@VHSTORNESCH-UETERSEN
SUMMARY:Gitarre für Kinder - Einzelunterricht (261-7402) 
LOCATION:VHS, Tornescher Hof 2, Raum 12, Tornescher Hof 2   , 25436 Tornesch
END:VEVENT
BEGIN:VEVENT
DTSTAMP:20260421T102645
DTSTART;TZID=Europe/Berlin:20260318T153000
DTEND;TZID=Europe/Berlin:20260318T160000
UID:261-7402-20260318T153000@VHSTORNESCH-UETERSEN
SUMMARY:Gitarre für Kinder - Einzelunterricht (261-7402) 
LOCATION:VHS, Tornescher Hof 2, Raum 12, Tornescher Hof 2   , 25436 Tornesch
END:VEVENT
BEGIN:VEVENT
DTSTAMP:20260421T102645
DTSTART;TZID=Europe/Berlin:20260325T153000
DTEND;TZID=Europe/Berlin:20260325T160000
UID:261-7402-20260325T153000@VHSTORNESCH-UETERSEN
SUMMARY:Gitarre für Kinder - Einzelunterricht (261-7402) 
LOCATION:VHS, Tornescher Hof 2, Raum 12, Tornescher Hof 2   , 25436 Tornesch
END:VEVENT
BEGIN:VEVENT
DTSTAMP:20260421T102645
DTSTART;TZID=Europe/Berlin:20260415T153000
DTEND;TZID=Europe/Berlin:20260415T160000
UID:261-7402-20260415T153000@VHSTORNESCH-UETERSEN
SUMMARY:Gitarre für Kinder - Einzelunterricht (261-7402) 
LOCATION:VHS, Tornescher Hof 2, Raum 12, Tornescher Hof 2   , 25436 Tornesch
END:VEVENT
BEGIN:VEVENT
DTSTAMP:20260421T102645
DTSTART;TZID=Europe/Berlin:20260422T153000
DTEND;TZID=Europe/Berlin:20260422T160000
UID:261-7402-20260422T153000@VHSTORNESCH-UETERSEN
SUMMARY:Gitarre für Kinder - Einzelunterricht (261-7402) 
LOCATION:VHS, Tornescher Hof 2, Raum 12, Tornescher Hof 2   , 25436 Tornesch
END:VEVENT
BEGIN:VEVENT
DTSTAMP:20260421T102645
DTSTART;TZID=Europe/Berlin:20260429T153000
DTEND;TZID=Europe/Berlin:20260429T160000
UID:261-7402-20260429T153000@VHSTORNESCH-UETERSEN
SUMMARY:Gitarre für Kinder - Einzelunterricht (261-7402) 
LOCATION:VHS, Tornescher Hof 2, Raum 12, Tornescher Hof 2   , 25436 Tornesch
END:VEVENT
BEGIN:VEVENT
DTSTAMP:20260421T102645
DTSTART;TZID=Europe/Berlin:20260506T153000
DTEND;TZID=Europe/Berlin:20260506T160000
UID:261-7402-20260506T153000@VHSTORNESCH-UETERSEN
SUMMARY:Gitarre für Kinder - Einzelunterricht (261-7402) 
LOCATION:VHS, Tornescher Hof 2, Raum 12, Tornescher Hof 2   , 25436 Tornesch
END:VEVENT
BEGIN:VEVENT
DTSTAMP:20260421T102645
DTSTART;TZID=Europe/Berlin:20260513T153000
DTEND;TZID=Europe/Berlin:20260513T160000
UID:261-7402-20260513T153000@VHSTORNESCH-UETERSEN
SUMMARY:Gitarre für Kinder - Einzelunterricht (261-7402) 
LOCATION:VHS, Tornescher Hof 2, Raum 12, Tornescher Hof 2   , 25436 Tornesch
END:VEVENT
BEGIN:VEVENT
DTSTAMP:20260421T102645
DTSTART;TZID=Europe/Berlin:20260520T153000
DTEND;TZID=Europe/Berlin:20260520T160000
UID:261-7402-20260520T153000@VHSTORNESCH-UETERSEN
SUMMARY:Gitarre für Kinder - Einzelunterricht (261-7402) 
LOCATION:VHS, Tornescher Hof 2, Raum 12, Tornescher Hof 2   , 25436 Tornesch
END:VEVENT
BEGIN:VEVENT
DTSTAMP:20260421T102645
DTSTART;TZID=Europe/Berlin:20260527T153000
DTEND;TZID=Europe/Berlin:20260527T160000
UID:261-7402-20260527T153000@VHSTORNESCH-UETERSEN
SUMMARY:Gitarre für Kinder - Einzelunterricht (261-7402) 
LOCATION:VHS, Tornescher Hof 2, Raum 12, Tornescher Hof 2   , 25436 Tornesch
END:VEVENT
BEGIN:VEVENT
DTSTAMP:20260421T102645
DTSTART;TZID=Europe/Berlin:20260603T153000
DTEND;TZID=Europe/Berlin:20260603T160000
UID:261-7402-20260603T153000@VHSTORNESCH-UETERSEN
SUMMARY:Gitarre für Kinder - Einzelunterricht (261-7402) 
LOCATION:VHS, Tornescher Hof 2, Raum 12, Tornescher Hof 2   , 25436 Tornesch
END:VEVENT
BEGIN:VEVENT
DTSTAMP:20260421T102645
DTSTART;TZID=Europe/Berlin:20260610T153000
DTEND;TZID=Europe/Berlin:20260610T160000
UID:261-7402-20260610T153000@VHSTORNESCH-UETERSEN
SUMMARY:Gitarre für Kinder - Einzelunterricht (261-7402) 
LOCATION:VHS, Tornescher Hof 2, Raum 12, Tornescher Hof 2   , 25436 Tornesch
END:VEVENT
BEGIN:VEVENT
DTSTAMP:20260421T102645
DTSTART;TZID=Europe/Berlin:20260617T153000
DTEND;TZID=Europe/Berlin:20260617T160000
UID:261-7402-20260617T153000@VHSTORNESCH-UETERSEN
SUMMARY:Gitarre für Kinder - Einzelunterricht (261-7402) 
LOCATION:VHS, Tornescher Hof 2, Raum 12, Tornescher Hof 2   , 25436 Tornesch
END:VEVENT
BEGIN:VEVENT
DTSTAMP:20260421T102645
DTSTART;TZID=Europe/Berlin:20260624T153000
DTEND;TZID=Europe/Berlin:20260624T160000
UID:261-7402-20260624T153000@VHSTORNESCH-UETERSEN
SUMMARY:Gitarre für Kinder - Einzelunterricht (261-7402) 
LOCATION:VHS, Tornescher Hof 2, Raum 12, Tornescher Hof 2   , 25436 Tornesch
END:VEVENT
END:VCALENDAR