BEGIN:VCALENDAR
VERSION:2.0
PRODID:http://www.kufer.de/kuferweb / DE
METHOD:PUBLISH
CALSCALE:GREGORIAN
X-WR-TIMEZONE:Europe/Berlin
BEGIN:VTIMEZONE
TZID:Europe/Berlin
X-LIC-LOCATION:Europe/Berlin
BEGIN:DAYLIGHT
TZOFFSETFROM:+0100
TZOFFSETTO:+0200
TZNAME:CEST
DTSTART;TZID=Europe/Berlin:19700329T020000
RRULE:FREQ=YEARLY;INTERVAL=1;BYDAY=-1SU;BYMONTH=3
END:DAYLIGHT
BEGIN:STANDARD
TZOFFSETFROM:+0200
TZOFFSETTO:+0100
TZNAME:CET
DTSTART;TZID=Europe/Berlin:19701025T030000
RRULE:FREQ=YEARLY;INTERVAL=1;BYDAY=-1SU;BYMONTH=10
END:STANDARD
END:VTIMEZONE
BEGIN:VEVENT
DTSTAMP:20260421T114710
DTSTART;TZID=Europe/Berlin:20260205T170000
DTEND;TZID=Europe/Berlin:20260205T174500
UID:261-6126-20260205T170000@VHSTORNESCH-UETERSEN
SUMMARY:Gitarre / E-Gitarre Einzelunterricht (261-6126) 
LOCATION:VHS, Tornescher Hof 2, Raum 12, Tornescher Hof 2   , 25436 Tornesch
END:VEVENT
BEGIN:VEVENT
DTSTAMP:20260421T114710
DTSTART;TZID=Europe/Berlin:20260212T170000
DTEND;TZID=Europe/Berlin:20260212T174500
UID:261-6126-20260212T170000@VHSTORNESCH-UETERSEN
SUMMARY:Gitarre / E-Gitarre Einzelunterricht (261-6126) 
LOCATION:VHS, Tornescher Hof 2, Raum 12, Tornescher Hof 2   , 25436 Tornesch
END:VEVENT
BEGIN:VEVENT
DTSTAMP:20260421T114710
DTSTART;TZID=Europe/Berlin:20260219T170000
DTEND;TZID=Europe/Berlin:20260219T174500
UID:261-6126-20260219T170000@VHSTORNESCH-UETERSEN
SUMMARY:Gitarre / E-Gitarre Einzelunterricht (261-6126) 
LOCATION:VHS, Tornescher Hof 2, Raum 12, Tornescher Hof 2   , 25436 Tornesch
END:VEVENT
BEGIN:VEVENT
DTSTAMP:20260421T114710
DTSTART;TZID=Europe/Berlin:20260226T170000
DTEND;TZID=Europe/Berlin:20260226T174500
UID:261-6126-20260226T170000@VHSTORNESCH-UETERSEN
SUMMARY:Gitarre / E-Gitarre Einzelunterricht (261-6126) 
LOCATION:VHS, Tornescher Hof 2, Raum 12, Tornescher Hof 2   , 25436 Tornesch
END:VEVENT
BEGIN:VEVENT
DTSTAMP:20260421T114710
DTSTART;TZID=Europe/Berlin:20260305T170000
DTEND;TZID=Europe/Berlin:20260305T174500
UID:261-6126-20260305T170000@VHSTORNESCH-UETERSEN
SUMMARY:Gitarre / E-Gitarre Einzelunterricht (261-6126) 
LOCATION:VHS, Tornescher Hof 2, Raum 12, Tornescher Hof 2   , 25436 Tornesch
END:VEVENT
BEGIN:VEVENT
DTSTAMP:20260421T114710
DTSTART;TZID=Europe/Berlin:20260312T170000
DTEND;TZID=Europe/Berlin:20260312T174500
UID:261-6126-20260312T170000@VHSTORNESCH-UETERSEN
SUMMARY:Gitarre / E-Gitarre Einzelunterricht (261-6126) 
LOCATION:VHS, Tornescher Hof 2, Raum 12, Tornescher Hof 2   , 25436 Tornesch
END:VEVENT
BEGIN:VEVENT
DTSTAMP:20260421T114710
DTSTART;TZID=Europe/Berlin:20260319T170000
DTEND;TZID=Europe/Berlin:20260319T174500
UID:261-6126-20260319T170000@VHSTORNESCH-UETERSEN
SUMMARY:Gitarre / E-Gitarre Einzelunterricht (261-6126) 
LOCATION:VHS, Tornescher Hof 2, Raum 12, Tornescher Hof 2   , 25436 Tornesch
END:VEVENT
BEGIN:VEVENT
DTSTAMP:20260421T114710
DTSTART;TZID=Europe/Berlin:20260416T170000
DTEND;TZID=Europe/Berlin:20260416T174500
UID:261-6126-20260416T170000@VHSTORNESCH-UETERSEN
SUMMARY:Gitarre / E-Gitarre Einzelunterricht (261-6126) 
LOCATION:VHS, Tornescher Hof 2, Raum 12, Tornescher Hof 2   , 25436 Tornesch
END:VEVENT
BEGIN:VEVENT
DTSTAMP:20260421T114710
DTSTART;TZID=Europe/Berlin:20260423T170000
DTEND;TZID=Europe/Berlin:20260423T174500
UID:261-6126-20260423T170000@VHSTORNESCH-UETERSEN
SUMMARY:Gitarre / E-Gitarre Einzelunterricht (261-6126) 
LOCATION:VHS, Tornescher Hof 2, Raum 12, Tornescher Hof 2   , 25436 Tornesch
END:VEVENT
BEGIN:VEVENT
DTSTAMP:20260421T114710
DTSTART;TZID=Europe/Berlin:20260430T170000
DTEND;TZID=Europe/Berlin:20260430T174500
UID:261-6126-20260430T170000@VHSTORNESCH-UETERSEN
SUMMARY:Gitarre / E-Gitarre Einzelunterricht (261-6126) 
LOCATION:VHS, Tornescher Hof 2, Raum 12, Tornescher Hof 2   , 25436 Tornesch
END:VEVENT
BEGIN:VEVENT
DTSTAMP:20260421T114710
DTSTART;TZID=Europe/Berlin:20260507T170000
DTEND;TZID=Europe/Berlin:20260507T174500
UID:261-6126-20260507T170000@VHSTORNESCH-UETERSEN
SUMMARY:Gitarre / E-Gitarre Einzelunterricht (261-6126) 
LOCATION:VHS, Tornescher Hof 2, Raum 12, Tornescher Hof 2   , 25436 Tornesch
END:VEVENT
BEGIN:VEVENT
DTSTAMP:20260421T114710
DTSTART;TZID=Europe/Berlin:20260521T170000
DTEND;TZID=Europe/Berlin:20260521T174500
UID:261-6126-20260521T170000@VHSTORNESCH-UETERSEN
SUMMARY:Gitarre / E-Gitarre Einzelunterricht (261-6126) 
LOCATION:VHS, Tornescher Hof 2, Raum 12, Tornescher Hof 2   , 25436 Tornesch
END:VEVENT
END:VCALENDAR