BEGIN:VCALENDAR
VERSION:2.0
PRODID:http://www.kufer.de/kuferweb / DE
METHOD:PUBLISH
CALSCALE:GREGORIAN
X-WR-TIMEZONE:Europe/Berlin
BEGIN:VTIMEZONE
TZID:Europe/Berlin
X-LIC-LOCATION:Europe/Berlin
BEGIN:DAYLIGHT
TZOFFSETFROM:+0100
TZOFFSETTO:+0200
TZNAME:CEST
DTSTART;TZID=Europe/Berlin:19700329T020000
RRULE:FREQ=YEARLY;INTERVAL=1;BYDAY=-1SU;BYMONTH=3
END:DAYLIGHT
BEGIN:STANDARD
TZOFFSETFROM:+0200
TZOFFSETTO:+0100
TZNAME:CET
DTSTART;TZID=Europe/Berlin:19701025T030000
RRULE:FREQ=YEARLY;INTERVAL=1;BYDAY=-1SU;BYMONTH=10
END:STANDARD
END:VTIMEZONE
BEGIN:VEVENT
DTSTAMP:20260421T111106
DTSTART;TZID=Europe/Berlin:20260210T163000
DTEND;TZID=Europe/Berlin:20260210T171500
UID:261-6042-20260210T163000@VHSTORNESCH-UETERSEN
SUMMARY:Gitarrenkurs für Fortgeschrittene 60 plus (261-6042) 
LOCATION:Uetersen, Rosenstadtschule, Seminarstr. 10b, Raum  A14, Seminarstr. 10b, 25436 Uetersen
END:VEVENT
BEGIN:VEVENT
DTSTAMP:20260421T111106
DTSTART;TZID=Europe/Berlin:20260217T163000
DTEND;TZID=Europe/Berlin:20260217T171500
UID:261-6042-20260217T163000@VHSTORNESCH-UETERSEN
SUMMARY:Gitarrenkurs für Fortgeschrittene 60 plus (261-6042) 
LOCATION:Uetersen, Rosenstadtschule, Seminarstr. 10b, Raum  A14, Seminarstr. 10b, 25436 Uetersen
END:VEVENT
BEGIN:VEVENT
DTSTAMP:20260421T111106
DTSTART;TZID=Europe/Berlin:20260224T163000
DTEND;TZID=Europe/Berlin:20260224T171500
UID:261-6042-20260224T163000@VHSTORNESCH-UETERSEN
SUMMARY:Gitarrenkurs für Fortgeschrittene 60 plus (261-6042) 
LOCATION:Uetersen, Rosenstadtschule, Seminarstr. 10b, Raum  A14, Seminarstr. 10b, 25436 Uetersen
END:VEVENT
BEGIN:VEVENT
DTSTAMP:20260421T111106
DTSTART;TZID=Europe/Berlin:20260303T163000
DTEND;TZID=Europe/Berlin:20260303T171500
UID:261-6042-20260303T163000@VHSTORNESCH-UETERSEN
SUMMARY:Gitarrenkurs für Fortgeschrittene 60 plus (261-6042) 
LOCATION:Uetersen, Rosenstadtschule, Seminarstr. 10b, Raum  A14, Seminarstr. 10b, 25436 Uetersen
END:VEVENT
BEGIN:VEVENT
DTSTAMP:20260421T111106
DTSTART;TZID=Europe/Berlin:20260310T163000
DTEND;TZID=Europe/Berlin:20260310T171500
UID:261-6042-20260310T163000@VHSTORNESCH-UETERSEN
SUMMARY:Gitarrenkurs für Fortgeschrittene 60 plus (261-6042) 
LOCATION:Uetersen, Rosenstadtschule, Seminarstr. 10b, Raum  A14, Seminarstr. 10b, 25436 Uetersen
END:VEVENT
BEGIN:VEVENT
DTSTAMP:20260421T111106
DTSTART;TZID=Europe/Berlin:20260317T163000
DTEND;TZID=Europe/Berlin:20260317T171500
UID:261-6042-20260317T163000@VHSTORNESCH-UETERSEN
SUMMARY:Gitarrenkurs für Fortgeschrittene 60 plus (261-6042) 
LOCATION:Uetersen, Rosenstadtschule, Seminarstr. 10b, Raum  A14, Seminarstr. 10b, 25436 Uetersen
END:VEVENT
BEGIN:VEVENT
DTSTAMP:20260421T111106
DTSTART;TZID=Europe/Berlin:20260324T163000
DTEND;TZID=Europe/Berlin:20260324T171500
UID:261-6042-20260324T163000@VHSTORNESCH-UETERSEN
SUMMARY:Gitarrenkurs für Fortgeschrittene 60 plus (261-6042) 
LOCATION:Uetersen, Rosenstadtschule, Seminarstr. 10b, Raum  A14, Seminarstr. 10b, 25436 Uetersen
END:VEVENT
BEGIN:VEVENT
DTSTAMP:20260421T111106
DTSTART;TZID=Europe/Berlin:20260414T163000
DTEND;TZID=Europe/Berlin:20260414T171500
UID:261-6042-20260414T163000@VHSTORNESCH-UETERSEN
SUMMARY:Gitarrenkurs für Fortgeschrittene 60 plus (261-6042) 
LOCATION:Uetersen, Rosenstadtschule, Seminarstr. 10b, Raum  A14, Seminarstr. 10b, 25436 Uetersen
END:VEVENT
BEGIN:VEVENT
DTSTAMP:20260421T111106
DTSTART;TZID=Europe/Berlin:20260421T163000
DTEND;TZID=Europe/Berlin:20260421T171500
UID:261-6042-20260421T163000@VHSTORNESCH-UETERSEN
SUMMARY:Gitarrenkurs für Fortgeschrittene 60 plus (261-6042) 
LOCATION:Uetersen, Rosenstadtschule, Seminarstr. 10b, Raum  A14, Seminarstr. 10b, 25436 Uetersen
END:VEVENT
BEGIN:VEVENT
DTSTAMP:20260421T111106
DTSTART;TZID=Europe/Berlin:20260428T163000
DTEND;TZID=Europe/Berlin:20260428T171500
UID:261-6042-20260428T163000@VHSTORNESCH-UETERSEN
SUMMARY:Gitarrenkurs für Fortgeschrittene 60 plus (261-6042) 
LOCATION:Uetersen, Rosenstadtschule, Seminarstr. 10b, Raum  A14, Seminarstr. 10b, 25436 Uetersen
END:VEVENT
END:VCALENDAR