BEGIN:VCALENDAR
VERSION:2.0
PRODID:http://www.kufer.de/kuferweb / DE
METHOD:PUBLISH
CALSCALE:GREGORIAN
X-WR-TIMEZONE:Europe/Berlin
BEGIN:VTIMEZONE
TZID:Europe/Berlin
X-LIC-LOCATION:Europe/Berlin
BEGIN:DAYLIGHT
TZOFFSETFROM:+0100
TZOFFSETTO:+0200
TZNAME:CEST
DTSTART;TZID=Europe/Berlin:19700329T020000
RRULE:FREQ=YEARLY;INTERVAL=1;BYDAY=-1SU;BYMONTH=3
END:DAYLIGHT
BEGIN:STANDARD
TZOFFSETFROM:+0200
TZOFFSETTO:+0100
TZNAME:CET
DTSTART;TZID=Europe/Berlin:19701025T030000
RRULE:FREQ=YEARLY;INTERVAL=1;BYDAY=-1SU;BYMONTH=10
END:STANDARD
END:VTIMEZONE
BEGIN:VEVENT
DTSTAMP:20260421T101243
DTSTART;TZID=Europe/Berlin:20260213T150000
DTEND;TZID=Europe/Berlin:20260213T153000
UID:261-6028A-20260213T150000@VHSTORNESCH-UETERSEN
SUMMARY:Klavier Einzelunterricht (261-6028A) 
LOCATION:Uetersen, Rosenstadtschule, Seminarstr. 10b, Raum  A14, Seminarstr. 10b, 25436 Uetersen
END:VEVENT
BEGIN:VEVENT
DTSTAMP:20260421T101243
DTSTART;TZID=Europe/Berlin:20260313T150000
DTEND;TZID=Europe/Berlin:20260313T153000
UID:261-6028A-20260313T150000@VHSTORNESCH-UETERSEN
SUMMARY:Klavier Einzelunterricht (261-6028A) 
LOCATION:Uetersen, Rosenstadtschule, Seminarstr. 10b, Raum  A14, Seminarstr. 10b, 25436 Uetersen
END:VEVENT
BEGIN:VEVENT
DTSTAMP:20260421T101243
DTSTART;TZID=Europe/Berlin:20260417T150000
DTEND;TZID=Europe/Berlin:20260417T153000
UID:261-6028A-20260417T150000@VHSTORNESCH-UETERSEN
SUMMARY:Klavier Einzelunterricht (261-6028A) 
LOCATION:Uetersen, Rosenstadtschule, Seminarstr. 10b, Raum  A14, Seminarstr. 10b, 25436 Uetersen
END:VEVENT
BEGIN:VEVENT
DTSTAMP:20260421T101243
DTSTART;TZID=Europe/Berlin:20260508T150000
DTEND;TZID=Europe/Berlin:20260508T153000
UID:261-6028A-20260508T150000@VHSTORNESCH-UETERSEN
SUMMARY:Klavier Einzelunterricht (261-6028A) 
LOCATION:Uetersen, Rosenstadtschule, Seminarstr. 10b, Raum  A14, Seminarstr. 10b, 25436 Uetersen
END:VEVENT
BEGIN:VEVENT
DTSTAMP:20260421T101243
DTSTART;TZID=Europe/Berlin:20260529T150000
DTEND;TZID=Europe/Berlin:20260529T153000
UID:261-6028A-20260529T150000@VHSTORNESCH-UETERSEN
SUMMARY:Klavier Einzelunterricht (261-6028A) 
LOCATION:Uetersen, Rosenstadtschule, Seminarstr. 10b, Raum  A14, Seminarstr. 10b, 25436 Uetersen
END:VEVENT
BEGIN:VEVENT
DTSTAMP:20260421T101243
DTSTART;TZID=Europe/Berlin:20260612T150000
DTEND;TZID=Europe/Berlin:20260612T153000
UID:261-6028A-20260612T150000@VHSTORNESCH-UETERSEN
SUMMARY:Klavier Einzelunterricht (261-6028A) 
LOCATION:Uetersen, Rosenstadtschule, Seminarstr. 10b, Raum  A14, Seminarstr. 10b, 25436 Uetersen
END:VEVENT
BEGIN:VEVENT
DTSTAMP:20260421T101243
DTSTART;TZID=Europe/Berlin:20260626T150000
DTEND;TZID=Europe/Berlin:20260626T153000
UID:261-6028A-20260626T150000@VHSTORNESCH-UETERSEN
SUMMARY:Klavier Einzelunterricht (261-6028A) 
LOCATION:Uetersen, Rosenstadtschule, Seminarstr. 10b, Raum  A14, Seminarstr. 10b, 25436 Uetersen
END:VEVENT
END:VCALENDAR