BEGIN:VCALENDAR
VERSION:2.0
PRODID:http://www.kufer.de/kuferweb / DE
METHOD:PUBLISH
CALSCALE:GREGORIAN
X-WR-TIMEZONE:Europe/Berlin
BEGIN:VTIMEZONE
TZID:Europe/Berlin
X-LIC-LOCATION:Europe/Berlin
BEGIN:DAYLIGHT
TZOFFSETFROM:+0100
TZOFFSETTO:+0200
TZNAME:CEST
DTSTART;TZID=Europe/Berlin:19700329T020000
RRULE:FREQ=YEARLY;INTERVAL=1;BYDAY=-1SU;BYMONTH=3
END:DAYLIGHT
BEGIN:STANDARD
TZOFFSETFROM:+0200
TZOFFSETTO:+0100
TZNAME:CET
DTSTART;TZID=Europe/Berlin:19701025T030000
RRULE:FREQ=YEARLY;INTERVAL=1;BYDAY=-1SU;BYMONTH=10
END:STANDARD
END:VTIMEZONE
BEGIN:VEVENT
DTSTAMP:20260421T132859
DTSTART;TZID=Europe/Berlin:20260720T100000
DTEND;TZID=Europe/Berlin:20260720T173000
UID:261-2000-20260720T100000@VHSTORNESCH-UETERSEN
SUMMARY:Bildungsurlaub Stressbewältigung durch Achtsamkeitsschulung - mit Methoden vom MBSR-Training (261-2000) 
LOCATION:VHS, Tornescher Hof 2, Raum 07, Tornescher Hof 2, 25436 Tornesch
END:VEVENT
BEGIN:VEVENT
DTSTAMP:20260421T132859
DTSTART;TZID=Europe/Berlin:20260721T100000
DTEND;TZID=Europe/Berlin:20260721T173000
UID:261-2000-20260721T100000@VHSTORNESCH-UETERSEN
SUMMARY:Bildungsurlaub Stressbewältigung durch Achtsamkeitsschulung - mit Methoden vom MBSR-Training (261-2000) 
LOCATION:VHS, Tornescher Hof 2, Raum 07, Tornescher Hof 2, 25436 Tornesch
END:VEVENT
BEGIN:VEVENT
DTSTAMP:20260421T132859
DTSTART;TZID=Europe/Berlin:20260722T100000
DTEND;TZID=Europe/Berlin:20260722T173000
UID:261-2000-20260722T100000@VHSTORNESCH-UETERSEN
SUMMARY:Bildungsurlaub Stressbewältigung durch Achtsamkeitsschulung - mit Methoden vom MBSR-Training (261-2000) 
LOCATION:VHS, Tornescher Hof 2, Raum 07, Tornescher Hof 2, 25436 Tornesch
END:VEVENT
BEGIN:VEVENT
DTSTAMP:20260421T132859
DTSTART;TZID=Europe/Berlin:20260723T100000
DTEND;TZID=Europe/Berlin:20260723T173000
UID:261-2000-20260723T100000@VHSTORNESCH-UETERSEN
SUMMARY:Bildungsurlaub Stressbewältigung durch Achtsamkeitsschulung - mit Methoden vom MBSR-Training (261-2000) 
LOCATION:VHS, Tornescher Hof 2, Raum 07, Tornescher Hof 2, 25436 Tornesch
END:VEVENT
BEGIN:VEVENT
DTSTAMP:20260421T132859
DTSTART;TZID=Europe/Berlin:20260724T100000
DTEND;TZID=Europe/Berlin:20260724T173000
UID:261-2000-20260724T100000@VHSTORNESCH-UETERSEN
SUMMARY:Bildungsurlaub Stressbewältigung durch Achtsamkeitsschulung - mit Methoden vom MBSR-Training (261-2000) 
LOCATION:VHS, Tornescher Hof 2, Raum 07, Tornescher Hof 2, 25436 Tornesch
END:VEVENT
END:VCALENDAR